
        
        BEGIN:VCALENDAR
VERSION:2.0
PRODID:-//Bernard Richter - ECPv6.15.20//NONSGML v1.0//EN
CALSCALE:GREGORIAN
METHOD:PUBLISH
X-WR-CALNAME:Bernard Richter
X-ORIGINAL-URL:https://www.bernard-richter.com
X-WR-CALDESC:Évènements pour Bernard Richter
REFRESH-INTERVAL;VALUE=DURATION:PT1H
X-Robots-Tag:noindex
X-PUBLISHED-TTL:PT1H
BEGIN:VTIMEZONE
TZID:Europe/Paris
BEGIN:DAYLIGHT
TZOFFSETFROM:+0100
TZOFFSETTO:+0200
TZNAME:CEST
DTSTART:20230326T010000
END:DAYLIGHT
BEGIN:STANDARD
TZOFFSETFROM:+0200
TZOFFSETTO:+0100
TZNAME:CET
DTSTART:20231029T010000
END:STANDARD
BEGIN:DAYLIGHT
TZOFFSETFROM:+0100
TZOFFSETTO:+0200
TZNAME:CEST
DTSTART:20240331T010000
END:DAYLIGHT
BEGIN:STANDARD
TZOFFSETFROM:+0200
TZOFFSETTO:+0100
TZNAME:CET
DTSTART:20241027T010000
END:STANDARD
BEGIN:DAYLIGHT
TZOFFSETFROM:+0100
TZOFFSETTO:+0200
TZNAME:CEST
DTSTART:20250330T010000
END:DAYLIGHT
BEGIN:STANDARD
TZOFFSETFROM:+0200
TZOFFSETTO:+0100
TZNAME:CET
DTSTART:20251026T010000
END:STANDARD
END:VTIMEZONE
BEGIN:VEVENT
DTSTART;TZID=Europe/Paris:20240901T173000
DTEND;TZID=Europe/Paris:20240901T173000
DTSTAMP:20260421T143342
CREATED:20240530T075457Z
LAST-MODIFIED:20240530T075614Z
UID:10000092-1725211800-1725211800@www.bernard-richter.com
SUMMARY:L'Elixir d'amour
DESCRIPTION:
URL:https://www.bernard-richter.com/evenement/lelixir-damour-copy-copy/
LOCATION:Au Château\, Cormondrèche (NE)
ATTACH;FMTTYPE=image/jpeg:https://www.bernard-richter.com/wp-content/uploads/2024/05/Donizetti-4.jpg
END:VEVENT
BEGIN:VEVENT
DTSTART;TZID=Europe/Paris:20240831T193000
DTEND;TZID=Europe/Paris:20240831T193000
DTSTAMP:20260421T143342
CREATED:20240530T075254Z
LAST-MODIFIED:20240530T075412Z
UID:10000091-1725132600-1725132600@www.bernard-richter.com
SUMMARY:L'Elixir d'amour
DESCRIPTION:
URL:https://www.bernard-richter.com/evenement/lelixir-damour-copy/
LOCATION:Au Château\, Cormondrèche (NE)
ATTACH;FMTTYPE=image/jpeg:https://www.bernard-richter.com/wp-content/uploads/2024/05/Donizetti-4.jpg
END:VEVENT
BEGIN:VEVENT
DTSTART;TZID=Europe/Paris:20240830T193000
DTEND;TZID=Europe/Paris:20240830T193000
DTSTAMP:20260421T143342
CREATED:20240530T075127Z
LAST-MODIFIED:20240530T075127Z
UID:10000090-1725046200-1725046200@www.bernard-richter.com
SUMMARY:L'Elixir d'amour
DESCRIPTION:
URL:https://www.bernard-richter.com/evenement/lelixir-damour/
LOCATION:Au Château\, Cormondrèche (NE)
ATTACH;FMTTYPE=image/jpeg:https://www.bernard-richter.com/wp-content/uploads/2024/05/Donizetti-4.jpg
END:VEVENT
END:VCALENDAR